flight 165203 xen-unstable-coverity real [real] http://logs.test-lab.xenproject.org/osstest/logs/165203/
Perfect :-) All tests in this flight passed as required version targeted for testing: xen dd6c062a7a4abdb662c18af03d1396325969d155 baseline version: xen 4e467d390eaf6736377766adae0166711866fac3 Last test of basis 165150 2021-09-22 09:30:48 Z 4 days Testing same since 165203 2021-09-26 09:19:39 Z 0 days 1 attempts ------------------------------------------------------------ People who touched revisions under test: Ian Jackson <[email protected]> Jan Beulich <[email protected]> Kevin Stefanov <[email protected]> Penny Zheng <[email protected]> Roger Pau Monné <[email protected]> Stefano Stabellini <[email protected]> Tamas K Lengyel <[email protected]> Wei Chen <[email protected]> jobs: coverity-amd64 pass ------------------------------------------------------------ sg-report-flight on osstest.test-lab.xenproject.org logs: /home/logs/logs images: /home/logs/images Logs, config files, etc. are available at http://logs.test-lab.xenproject.org/osstest/logs Explanation of these reports, and of osstest in general, is at http://xenbits.xen.org/gitweb/?p=osstest.git;a=blob;f=README.email;hb=master http://xenbits.xen.org/gitweb/?p=osstest.git;a=blob;f=README;hb=master Test harness code can be found at http://xenbits.xen.org/gitweb?p=osstest.git;a=summary Pushing revision : To xenbits.xen.org:/home/xen/git/xen.git 4e467d390e..dd6c062a7a dd6c062a7a4abdb662c18af03d1396325969d155 -> coverity-tested/smoke
