flight 165120 xen-unstable-coverity real [real]
http://logs.test-lab.xenproject.org/osstest/logs/165120/

Perfect :-)
All tests in this flight passed as required
version targeted for testing:
 xen                  437e88417bdea0d5cd012fe9d69a3e0f8a0c13e8
baseline version:
 xen                  487975df53b5298316b594550c79934d646701bd

Last test of basis   164994  2021-09-15 09:19:43 Z    4 days
Testing same since   165120  2021-09-19 09:19:39 Z    0 days    1 attempts

------------------------------------------------------------
People who touched revisions under test:
  Andrew Cooper <[email protected]>
  Bertrand Marquis <[email protected]>
  Daniel P. Smith <[email protected]>
  Jan Beulich <[email protected]>
  Juergen Gross <[email protected]>
  Julien Grall <[email protected]>
  Roger Pau MonnĂ© <[email protected]>
  Stefano Stabellini <[email protected]>
  Stefano Stabellini <[email protected]>

jobs:
 coverity-amd64                                               pass    


------------------------------------------------------------
sg-report-flight on osstest.test-lab.xenproject.org
logs: /home/logs/logs
images: /home/logs/images

Logs, config files, etc. are available at
    http://logs.test-lab.xenproject.org/osstest/logs

Explanation of these reports, and of osstest in general, is at
    http://xenbits.xen.org/gitweb/?p=osstest.git;a=blob;f=README.email;hb=master
    http://xenbits.xen.org/gitweb/?p=osstest.git;a=blob;f=README;hb=master

Test harness code can be found at
    http://xenbits.xen.org/gitweb?p=osstest.git;a=summary


Pushing revision :

To xenbits.xen.org:/home/xen/git/xen.git
   487975df53..437e88417b  437e88417bdea0d5cd012fe9d69a3e0f8a0c13e8 -> 
coverity-tested/smoke

Reply via email to