flight 164882 xen-unstable-coverity real [real]
http://logs.test-lab.xenproject.org/osstest/logs/164882/

Perfect :-)
All tests in this flight passed as required
version targeted for testing:
 xen                  e70a9a043a5ce6d4025420f729bc473f711bf5d1
baseline version:
 xen                  2d4978ead4b98452bc45ebe47952e524b12e2b41

Last test of basis   164827  2021-09-05 09:18:31 Z    3 days
Testing same since   164882  2021-09-08 09:18:32 Z    0 days    1 attempts

------------------------------------------------------------
People who touched revisions under test:
  Andrew Cooper <[email protected]>
  Anthony PERARD <[email protected]>
  Jan Beulich <[email protected]>
  Jane Malalane <[email protected]>
  Julien Grall <[email protected]>
  Michal Orzel <[email protected]>
  Wei Liu <[email protected]>

jobs:
 coverity-amd64                                               pass    


------------------------------------------------------------
sg-report-flight on osstest.test-lab.xenproject.org
logs: /home/logs/logs
images: /home/logs/images

Logs, config files, etc. are available at
    http://logs.test-lab.xenproject.org/osstest/logs

Explanation of these reports, and of osstest in general, is at
    http://xenbits.xen.org/gitweb/?p=osstest.git;a=blob;f=README.email;hb=master
    http://xenbits.xen.org/gitweb/?p=osstest.git;a=blob;f=README;hb=master

Test harness code can be found at
    http://xenbits.xen.org/gitweb?p=osstest.git;a=summary


Pushing revision :

To xenbits.xen.org:/home/xen/git/xen.git
   2d4978ead4..e70a9a043a  e70a9a043a5ce6d4025420f729bc473f711bf5d1 -> 
coverity-tested/smoke

Reply via email to