flight 164869 ovmf real [real]
http://logs.test-lab.xenproject.org/osstest/logs/164869/

Perfect :-)
All tests in this flight passed as required
version targeted for testing:
 ovmf                 a7cf2c5664b9605162b20ab6b51c7bdcab3e14f0
baseline version:
 ovmf                 4473834e7d49c555eca81f96383a1d6d6f5f4bb2

Last test of basis   164862  2021-09-06 15:10:03 Z    0 days
Testing same since   164869  2021-09-07 04:11:11 Z    0 days    1 attempts

------------------------------------------------------------
People who touched revisions under test:
  Abner Chang <[email protected]>
  Cheng Zhou <[email protected]>

jobs:
 build-amd64-xsm                                              pass    
 build-i386-xsm                                               pass    
 build-amd64                                                  pass    
 build-i386                                                   pass    
 build-amd64-libvirt                                          pass    
 build-i386-libvirt                                           pass    
 build-amd64-pvops                                            pass    
 build-i386-pvops                                             pass    
 test-amd64-amd64-xl-qemuu-ovmf-amd64                         pass    
 test-amd64-i386-xl-qemuu-ovmf-amd64                          pass    


------------------------------------------------------------
sg-report-flight on osstest.test-lab.xenproject.org
logs: /home/logs/logs
images: /home/logs/images

Logs, config files, etc. are available at
    http://logs.test-lab.xenproject.org/osstest/logs

Explanation of these reports, and of osstest in general, is at
    http://xenbits.xen.org/gitweb/?p=osstest.git;a=blob;f=README.email;hb=master
    http://xenbits.xen.org/gitweb/?p=osstest.git;a=blob;f=README;hb=master

Test harness code can be found at
    http://xenbits.xen.org/gitweb?p=osstest.git;a=summary


Pushing revision :

To xenbits.xen.org:/home/xen/git/osstest/ovmf.git
   4473834e7d..a7cf2c5664  a7cf2c5664b9605162b20ab6b51c7bdcab3e14f0 -> 
xen-tested-master

Reply via email to