flight 164862 ovmf real [real]
http://logs.test-lab.xenproject.org/osstest/logs/164862/

Perfect :-)
All tests in this flight passed as required
version targeted for testing:
 ovmf                 4473834e7d49c555eca81f96383a1d6d6f5f4bb2
baseline version:
 ovmf                 cae735f61328d64e2e8991036707b9e78c0f5f63

Last test of basis   164674  2021-08-31 02:56:52 Z    6 days
Failing since        164686  2021-09-01 03:03:43 Z    5 days   69 attempts
Testing same since   164862  2021-09-06 15:10:03 Z    0 days    1 attempts

------------------------------------------------------------
People who touched revisions under test:
  Anthony PERARD <[email protected]>
  DunTan <[email protected]>
  Gary Lin <[email protected]>
  Hao A Wu <[email protected]>
  Jim Fehlig <[email protected]>
  Lin, Gary (HPS OE-Linux) <[email protected]>
  Loo Tung Lun <[email protected]>
  Loo, Tung Lun <[email protected]>
  Mark Wilson <[email protected]>
  Marvin H?user <[email protected]>
  Michael Kubacki <[email protected]>
  Rebecca Cran <[email protected]>
  Wenxing Hou <[email protected]>
  Wenyi Xie <[email protected]>

jobs:
 build-amd64-xsm                                              pass    
 build-i386-xsm                                               pass    
 build-amd64                                                  pass    
 build-i386                                                   pass    
 build-amd64-libvirt                                          pass    
 build-i386-libvirt                                           pass    
 build-amd64-pvops                                            pass    
 build-i386-pvops                                             pass    
 test-amd64-amd64-xl-qemuu-ovmf-amd64                         pass    
 test-amd64-i386-xl-qemuu-ovmf-amd64                          pass    


------------------------------------------------------------
sg-report-flight on osstest.test-lab.xenproject.org
logs: /home/logs/logs
images: /home/logs/images

Logs, config files, etc. are available at
    http://logs.test-lab.xenproject.org/osstest/logs

Explanation of these reports, and of osstest in general, is at
    http://xenbits.xen.org/gitweb/?p=osstest.git;a=blob;f=README.email;hb=master
    http://xenbits.xen.org/gitweb/?p=osstest.git;a=blob;f=README;hb=master

Test harness code can be found at
    http://xenbits.xen.org/gitweb?p=osstest.git;a=summary


Pushing revision :

To xenbits.xen.org:/home/xen/git/osstest/ovmf.git
   cae735f613..4473834e7d  4473834e7d49c555eca81f96383a1d6d6f5f4bb2 -> 
xen-tested-master

Reply via email to