flight 117598 xen-unstable-coverity real [real]
http://logs.test-lab.xenproject.org/osstest/logs/117598/

Perfect :-)
All tests in this flight passed as required
version targeted for testing:
 xen                  971d299c04df379734d10c44d637433e9e564f36
baseline version:
 xen                  1b33150fe06ab9217f7f12b01bc5e607f4f55658

Last test of basis   117377  2017-12-20 09:48:29 Z   14 days
Testing same since   117598  2018-01-03 09:21:56 Z    0 days    1 attempts

------------------------------------------------------------
People who touched revisions under test:
  Adrian Hunter <[email protected]>
  Andrew Cooper <[email protected]>
  Andrew Morton <[email protected]>
  David Woodhouse <[email protected]>
  Jan Beulich <[email protected]>
  Linus Torvalds <[email protected]>
  Michel Lespinasse <[email protected]>
  Peter Zijlstra <[email protected]>
  Praveen Kumar <[email protected]>
  Roger Pau Monné <[email protected]>
  Stephen Rothwell <[email protected]>
  Tim Deegan <[email protected]>
  Wolfram Strepp <[email protected]>
  Yi Sun <[email protected]>

jobs:
 coverity-amd64                                               pass    


------------------------------------------------------------
sg-report-flight on osstest.test-lab.xenproject.org
logs: /home/logs/logs
images: /home/logs/images

Logs, config files, etc. are available at
    http://logs.test-lab.xenproject.org/osstest/logs

Explanation of these reports, and of osstest in general, is at
    http://xenbits.xen.org/gitweb/?p=osstest.git;a=blob;f=README.email;hb=master
    http://xenbits.xen.org/gitweb/?p=osstest.git;a=blob;f=README;hb=master

Test harness code can be found at
    http://xenbits.xen.org/gitweb?p=osstest.git;a=summary


Pushing revision :

To xenbits.xen.org:/home/xen/git/xen.git
   1b33150fe0..971d299c04  971d299c04df379734d10c44d637433e9e564f36 -> 
coverity-tested/smoke

_______________________________________________
Xen-devel mailing list
[email protected]
https://lists.xenproject.org/mailman/listinfo/xen-devel

Reply via email to